BEGIN:VCALENDAR
VERSION:2.0
PRODID:-//https://evident.org.au///NONSGML kigkonsult.se iCalcreator 2.10.15//
METHOD:PUBLISH
BEGIN:VEVENT
UID:20260423T015628UTC-3188xjwLJG@https://evident.org.au/
DTSTAMP:20260423T015628Z
DESCRIPTION:The Grampians Peaks Trail is rescheduled to April 2022!\nMake i
 ncredible memories as you hike through the Grampians National Park with it
 s dramatic scenery&nbsp\;and Aboriginal heritage.&nbsp\;\nWalking the 38km
  in support of eviDent Foundation’s goal for better health will have every
 one smiling. Your hike along the Grampians Peaks Trail will take you and e
 viDent to new heights\, helping eviDent to reach the peak for healthier te
 eth.\nDownload the brochure\nRegister\nContact https://evident.org.au/get-
 involved/events/event/96-reach-the-peak-for-healthier-teeth-new-dates
DTSTART:20220422T080000Z
DTEND:20220425T080000Z
LOCATION:Grampians National Park (Grampians National Park\, Victoria\, Aust
 ralia)
SUMMARY:Reach the Peak for Healthier Teeth - NEW DATES!
URL:https://evident.org.au/get-involved/events/event/96-reach-the-peak-for-
 healthier-teeth-new-dates
END:VEVENT
END:VCALENDAR
